BEGIN:VCALENDAR
VERSION:2.0
PRODID:-//The Children&#039;s House Primary School - ECPv6.15.20//NONSGML v1.0//EN
CALSCALE:GREGORIAN
METHOD:PUBLISH
X-WR-CALNAME:The Children&#039;s House Primary School
X-ORIGINAL-URL:https://childrenshouseprimary.ie
X-WR-CALDESC:Events for The Children&#039;s House Primary School
REFRESH-INTERVAL;VALUE=DURATION:PT1H
X-Robots-Tag:noindex
X-PUBLISHED-TTL:PT1H
BEGIN:VTIMEZONE
TZID:UTC
BEGIN:STANDARD
TZOFFSETFROM:+0000
TZOFFSETTO:+0000
TZNAME:UTC
DTSTART:20230101T000000
END:STANDARD
END:VTIMEZONE
BEGIN:VEVENT
DTSTART;VALUE=DATE:20240108
DTEND;VALUE=DATE:20240109
DTSTAMP:20260421T212012
CREATED:20231207T175352Z
LAST-MODIFIED:20231207T175352Z
UID:5110-1704672000-1704758399@childrenshouseprimary.ie
SUMMARY:School resumes
DESCRIPTION:
URL:https://childrenshouseprimary.ie/event/school-resumes/
END:VEVENT
END:VCALENDAR