BEGIN:VCALENDAR
VERSION:2.0
PRODID:-//The Children&#039;s House Primary School - ECPv6.15.20//NONSGML v1.0//EN
CALSCALE:GREGORIAN
METHOD:PUBLISH
X-ORIGINAL-URL:https://childrenshouseprimary.ie
X-WR-CALDESC:Events for The Children&#039;s House Primary School
REFRESH-INTERVAL;VALUE=DURATION:PT1H
X-Robots-Tag:noindex
X-PUBLISHED-TTL:PT1H
BEGIN:VTIMEZONE
TZID:UTC
BEGIN:STANDARD
TZOFFSETFROM:+0000
TZOFFSETTO:+0000
TZNAME:UTC
DTSTART:20220101T000000
END:STANDARD
END:VTIMEZONE
BEGIN:VEVENT
DTSTART;TZID=UTC:20231208T080000
DTEND;TZID=UTC:20231208T170000
DTSTAMP:20260421T230304
CREATED:20231207T174448Z
LAST-MODIFIED:20231207T174448Z
UID:5093-1702022400-1702054800@childrenshouseprimary.ie
SUMMARY:AIJS (Association Irish Junior Schools) Soccer Blitz
DESCRIPTION:
URL:https://childrenshouseprimary.ie/event/aijs-association-irish-junior-schools-soccer-blitz/
END:VEVENT
END:VCALENDAR